BEGIN:VCALENDAR
VERSION:2.0
CALSCALE:GREGORIAN
METHOD:PUBLISH
X-WR-TIMEZONE:Australia/Sydney
BEGIN:VTIMEZONE
TZID:Australia/Sydney
BEGIN:STANDARD
TZNAME:AEST
END:STANDARD
END:VTIMEZONE
BEGIN:VEVENT
DTSTART;TZID=Australia/Sydney:20250914T100000
DTEND;TZID=Australia/Sydney:20250914T140000
DTSTAMP:20260422T183118
UID:67
SUMMARY:150 Years Celebration
DESCRIPTION:




School Open 10.00 am to 2.00 pmOpening ceremony 10.15 am.


SEQUENCE:0
STATUS:CONFIRMED
TRANSP:OPAQUE
END:VEVENT
END:VCALENDAR